BEGIN:VCALENDAR
VERSION:2.0
PRODID:-//Sadhana Prakashan - ECPv5.16.3.1//NONSGML v1.0//EN
CALSCALE:GREGORIAN
METHOD:PUBLISH
X-WR-CALNAME:Sadhana Prakashan
X-ORIGINAL-URL:https://sadhanaprakashan.in
X-WR-CALDESC:Events for Sadhana Prakashan
BEGIN:VTIMEZONE
TZID:Asia/Kolkata
BEGIN:STANDARD
TZOFFSETFROM:+0530
TZOFFSETTO:+0530
TZNAME:IST
DTSTART:20220101T000000
END:STANDARD
END:VTIMEZONE
BEGIN:VEVENT
DTSTART;TZID=Asia/Kolkata:20220815T173000
DTEND;TZID=Asia/Kolkata:20220815T200000
DTSTAMP:20260422T105354
CREATED:20220813T075441Z
LAST-MODIFIED:20221222T045005Z
UID:2070-1660584600-1660593600@sadhanaprakashan.in
SUMMARY:साधनाचे अमृतमहोत्सवी वर्ष
DESCRIPTION:1. साधना साप्ताहिकाच्या अमृतमहोत्सवी वर्षाचा प्रारंभ…\n\n2. ‘कालचे स्वातंत्र्य आमच्या दारात आलेच नाही’ या विषयावरील साधनाच्या वर्षारंभ विशेषांकाचे प्रकाशन\n\n2.  अनिल अवचट यांनी संपादित केलेला आणि राजा ढाले यांच्या लेखामुळे बरेच वाद-संवाद झडलेला ’25 वर्षांतील दलितांचे स्वातंत्र्य’ हा विशेषांक आणि त्यावरील वादसंवाद यांचे संकलन असलेल्या पुस्तकाचे प्रकाशन होणार आहे. या पुस्तकावर मनोहर जाधव मनोगत व्यक्त करतील.\n\n3. मधू लिमये यांनी लिहिलेल्या आणि वासंती दामले यांनी अनुवादित केलेल्या ‘धर्मांधता : राज्यसंस्थेवरील घोर संकट’ या पुस्तकाचे प्रकाशन आणि त्यानिमित्ताने अमरेंद्र धनेश्वर यांचे मनोगत.\n\n4. साधना साप्ताहिकाचे 50 वर्षांचे ‘डिजिटल अर्काइव’ तयार झाले आहे आणि ‘साधना प्रकाशनाची वेबसाईट’ आकाराला आली आहे\, त्या दोन्हींचे उद्घाटन होणार आहे.\n\n5. साधनाच्या वाटचालीत विशेष योगदान देणाऱ्या काही व्यक्तींचा सत्कार-सन्मान होणार आहे.
URL:https://sadhanaprakashan.in/event/%e0%a4%b8%e0%a4%be%e0%a4%a7%e0%a4%a8%e0%a4%be%e0%a4%9a%e0%a5%87-%e0%a4%85%e0%a4%ae%e0%a5%83%e0%a4%a4%e0%a4%ae%e0%a4%b9%e0%a5%8b%e0%a4%a4%e0%a5%8d%e0%a4%b8%e0%a4%b5%e0%a5%80-%e0%a4%b5%e0%a4%b0%e0%a5%8d/
LOCATION:S. M. Joshi Sabhagruha\, S. M. Joshi Sabhagruha\, Survey No. 191/192\, Shilmkar Path\, Opp. Patrakar Bhavan\, Ganjave Chowk\, Navi Peth\, पुणे\, महाराष्ट्र\, 411030\, India
ATTACH;FMTTYPE=image/jpeg:https://sadhanaprakashan.in/wp-content/uploads/2022/08/Screenshot-2022-08-14-112051.jpg
END:VEVENT
END:VCALENDAR